BEGIN:VCALENDAR
VERSION:2.0
PRODID:gruene-welver.de
METHOD:PUBLISH
BEGIN:VTIMEZONE
TZID:Europe/Berlin
X-LIC-LOCATION:Europe/Berlin
BEGIN:DAYLIGHT
TZOFFSETFROM:+0100
TZOFFSETTO:+0200
TZNAME:CEST
DTSTART:19700329T020000
RRULE:FREQ=YEARLY;INTERVAL=1;BYDAY=-1SU;BYMONTH=3
END:DAYLIGHT
BEGIN:STANDARD
TZOFFSETFROM:+0200
TZOFFSETTO:+0100
TZNAME:CET
DTSTART:19701025T030000
RRULE:FREQ=YEARLY;INTERVAL=1;BYDAY=-1SU;BYMONTH=10
END:STANDARD
END:VTIMEZONE
BEGIN:VEVENT
UID:e2c2e58265c6208f0944b3ea8913fdba@gruene-welver.de
URL;VALUE=URI:https://gruene-welver.de/termine/infostand-fussgaengerzone-
 welver/
LOCATION:
SUMMARY:Infostand Fußgängerzone (Welver)
DESCRIPTION;ALTREP="data:text/html,%3Cimg%20class%3D%22alignnone%20size-m
 edium%20wp-image-76%20aligncenter%22%20src%3D%22http%3A%2F%2Fgruene-welve
 r.de%2Fwp-content%2Fuploads%2F2020%2F06%2Flogo_small-400x402.png%22%20alt
 %3D%22%22%20width%3D%22400%22%20height%3D%22402%22%20%2F%3E%0D%0A%3Cp%20s
 tyle%3D%22text-align%3A%20center%22%3EAllgemeine%20Informationen%20zur%20
 Kommunalwahl%20am%2013.09.2020%3B%20wir%20informieren%20%C3%BCber%20unser
 e%20gr%C3%BCne%2C%20nachhaltige%20und%20generationengerecht%20Politik.%3C
 %2Fp%3E%0D%0A%3Cp%20style%3D%22text-align%3A%20center%22%3EHier%20erhalte
 n%20Sie%20auch%20unser%20Zukunftsprogramm%20als%20Heft%20und%20als%20Audi
 odatei%20auf%20einem%20USB-Stick.%0D%0A-%20au%C3%9Ferdem%20mit%20dabei%20
 unser%20B%C3%BCrgermeisterkandidat%20Camillo%20Garzen%3C%2Fp%3E":Allgemei
 ne Informationen zur Kommunalwahl am 13.09.2020\; wir informieren über u
 nsere grüne\, nachhaltige und generationengerecht Politik.\n\nHier erhal
 ten Sie auch unser Zukunftsprogramm als Heft und als Audiodatei auf einem
  USB-Stick.\n\n- außerdem mit dabei unser Bürgermeisterkandidat Camillo
  Garzen
CLASS:PUBLIC
DTSTART;TZID=Europe/Berlin:20200822T080000
DTEND;TZID=Europe/Berlin:20200822T090000
DTSTAMP:20260421T225310
END:VEVENT
END:VCALENDAR