BEGIN:VCALENDAR
VERSION:2.0
PRODID:gruene-welver.de
METHOD:PUBLISH
BEGIN:VTIMEZONE
TZID:Europe/Berlin
X-LIC-LOCATION:Europe/Berlin
BEGIN:DAYLIGHT
TZOFFSETFROM:+0100
TZOFFSETTO:+0200
TZNAME:CEST
DTSTART:19700329T020000
RRULE:FREQ=YEARLY;INTERVAL=1;BYDAY=-1SU;BYMONTH=3
END:DAYLIGHT
BEGIN:STANDARD
TZOFFSETFROM:+0200
TZOFFSETTO:+0100
TZNAME:CET
DTSTART:19701025T030000
RRULE:FREQ=YEARLY;INTERVAL=1;BYDAY=-1SU;BYMONTH=10
END:STANDARD
END:VTIMEZONE
BEGIN:VEVENT
UID:da7c621e63615e730951eb682ba50765@gruene-welver.de
URL;VALUE=URI:https://gruene-welver.de/termine/infostand-baeckerei-steinh
 off-borgeln/
LOCATION:Welver-Dinker
SUMMARY:Infostand Bäckerei Lippling (Dinker)
DESCRIPTION;ALTREP="data:text/html,%3Cimg%20class%3D%22wp-image-76%20alig
 ncenter%22%20src%3D%22http%3A%2F%2Fgruene-welver.de%2Fwp-content%2Fupload
 s%2F2020%2F06%2Flogo_small-400x402.png%22%20alt%3D%22%22%20width%3D%22210
 %22%20height%3D%22211%22%20%2F%3E%0D%0A%3Cp%20style%3D%22text-align%3A%20
 center%22%3EAllgemeine%20Informationen%20zur%20Kommunalwahl%20am%2013.09.
 2020%3B%20wir%20informieren%20%C3%BCber%20unsere%20gr%C3%BCne%2C%20nachha
 ltige%20und%20generationengerecht%20Politik.%3C%2Fp%3E%0D%0A%3Cp%20style%
 3D%22text-align%3A%20center%22%3EHier%20erhalten%20Sie%20auch%20unser%20Z
 ukunftsprogramm%20als%20Heft%20und%20als%20Audiodatei%20auf%20einem%20USB
 -Stick.%0D%0A-%20au%C3%9Ferdem%20mit%20dabei%20unser%20B%C3%BCrgermeister
 kandidat%20Camillo%20Garzen%3C%2Fp%3E":Allgemeine Informationen zur Kommu
 nalwahl am 13.09.2020\; wir informieren über unsere grüne\, nachhaltige
  und generationengerecht Politik.\n\nHier erhalten Sie auch unser Zukunft
 sprogramm als Heft und als Audiodatei auf einem USB-Stick.\n\n- außerdem
  mit dabei unser Bürgermeisterkandidat Camillo Garzen
CLASS:PUBLIC
DTSTART;TZID=Europe/Berlin:20200808T080000
DTEND;TZID=Europe/Berlin:20200808T090000
DTSTAMP:20260421T191425
END:VEVENT
END:VCALENDAR